BEGIN:VCALENDAR
VERSION:2.0
PRODID:-//Lighthouse Church - ECPv6.15.20//NONSGML v1.0//EN
CALSCALE:GREGORIAN
METHOD:PUBLISH
X-WR-CALNAME:Lighthouse Church
X-ORIGINAL-URL:https://irvinelighthouse.org
X-WR-CALDESC:Events for Lighthouse Church
REFRESH-INTERVAL;VALUE=DURATION:PT1H
X-Robots-Tag:noindex
X-PUBLISHED-TTL:PT1H
BEGIN:VTIMEZONE
TZID:UTC
BEGIN:STANDARD
TZOFFSETFROM:+0000
TZOFFSETTO:+0000
TZNAME:UTC
DTSTART:20220101T000000
END:STANDARD
END:VTIMEZONE
BEGIN:VEVENT
DTSTART;TZID=UTC:20231008T100000
DTEND;TZID=UTC:20231008T110000
DTSTAMP:20260424T082120
CREATED:20230610T231416Z
LAST-MODIFIED:20230610T231416Z
UID:3998-1696759200-1696762800@irvinelighthouse.org
SUMMARY:Sunday Service
DESCRIPTION:Lighthouse Church \nSundays at 10am \nLos Olivos Community Center\, 101 Alfonso\, Irvine\, CA 92618 \nTeaching from Pastor Scott Huffman\, live worship\, children’s ministry
URL:https://irvinelighthouse.org/event/sunday-service-16/
LOCATION:Lighthouse Church\, 101 Alfonso\, Irvine\, CA\, 92618\, United States
ATTACH;FMTTYPE=image/png:https://irvinelighthouse.org/wp-content/uploads/2023/03/podcast_cover.png
END:VEVENT
BEGIN:VEVENT
DTSTART;TZID=UTC:20231001T100000
DTEND;TZID=UTC:20231001T110000
DTSTAMP:20260424T082120
CREATED:20230610T231343Z
LAST-MODIFIED:20230610T231343Z
UID:3996-1696154400-1696158000@irvinelighthouse.org
SUMMARY:Sunday Service
DESCRIPTION:Lighthouse Church \nSundays at 10am \nLos Olivos Community Center\, 101 Alfonso\, Irvine\, CA 92618 \nTeaching from Pastor Scott Huffman\, live worship\, children’s ministry
URL:https://irvinelighthouse.org/event/sunday-service-15/
LOCATION:Lighthouse Church\, 101 Alfonso\, Irvine\, CA\, 92618\, United States
ATTACH;FMTTYPE=image/png:https://irvinelighthouse.org/wp-content/uploads/2023/03/podcast_cover.png
END:VEVENT
BEGIN:VEVENT
DTSTART;TZID=UTC:20230924T100000
DTEND;TZID=UTC:20230924T110000
DTSTAMP:20260424T082120
CREATED:20230610T231258Z
LAST-MODIFIED:20230610T231312Z
UID:3994-1695549600-1695553200@irvinelighthouse.org
SUMMARY:Sunday Service
DESCRIPTION:Lighthouse Church \nSundays at 10am \nLos Olivos Community Center\, 101 Alfonso\, Irvine\, CA 92618 \nTeaching from Pastor Scott Huffman\, live worship\, children’s ministry
URL:https://irvinelighthouse.org/event/sunday-service-14/
LOCATION:Lighthouse Church\, 101 Alfonso\, Irvine\, CA\, 92618\, United States
ATTACH;FMTTYPE=image/png:https://irvinelighthouse.org/wp-content/uploads/2023/03/podcast_cover.png
END:VEVENT
BEGIN:VEVENT
DTSTART;TZID=UTC:20230910T100000
DTEND;TZID=UTC:20230910T110000
DTSTAMP:20260424T082120
CREATED:20230610T231241Z
LAST-MODIFIED:20230610T235016Z
UID:3992-1694340000-1694343600@irvinelighthouse.org
SUMMARY:Sunday Service
DESCRIPTION:Lighthouse Church \nSundays at 10am \nLos Olivos Community Center\, 101 Alfonso\, Irvine\, CA 92618 \nTeaching from Pastor Scott Huffman\, live worship\, children’s ministry
URL:https://irvinelighthouse.org/event/sunday-service-13/
LOCATION:Lighthouse Church\, 101 Alfonso\, Irvine\, CA\, 92618\, United States
ATTACH;FMTTYPE=image/png:https://irvinelighthouse.org/wp-content/uploads/2023/06/sundays_at_lighthouse.png
END:VEVENT
BEGIN:VEVENT
DTSTART;TZID=UTC:20230903T100000
DTEND;TZID=UTC:20230903T110000
DTSTAMP:20260424T082120
CREATED:20230610T231158Z
LAST-MODIFIED:20230610T235000Z
UID:3990-1693735200-1693738800@irvinelighthouse.org
SUMMARY:Sunday Service
DESCRIPTION:Lighthouse Church \nSundays at 10am \nLos Olivos Community Center\, 101 Alfonso\, Irvine\, CA 92618 \nTeaching from Pastor Scott Huffman\, live worship\, children’s ministry
URL:https://irvinelighthouse.org/event/sunday-service-12/
LOCATION:Lighthouse Church\, 101 Alfonso\, Irvine\, CA\, 92618\, United States
ATTACH;FMTTYPE=image/png:https://irvinelighthouse.org/wp-content/uploads/2023/06/sundays_at_lighthouse.png
END:VEVENT
BEGIN:VEVENT
DTSTART;TZID=UTC:20230820T100000
DTEND;TZID=UTC:20230820T110000
DTSTAMP:20260424T082120
CREATED:20230610T231107Z
LAST-MODIFIED:20230610T234909Z
UID:3987-1692525600-1692529200@irvinelighthouse.org
SUMMARY:Sunday Service
DESCRIPTION:Lighthouse Church \nSundays at 10am \nLos Olivos Community Center\, 101 Alfonso\, Irvine\, CA 92618 \nTeaching from Pastor Scott Huffman\, live worship\, children’s ministry
URL:https://irvinelighthouse.org/event/sunday-service-11/
LOCATION:Lighthouse Church\, 101 Alfonso\, Irvine\, CA\, 92618\, United States
ATTACH;FMTTYPE=image/png:https://irvinelighthouse.org/wp-content/uploads/2023/06/sundays_at_lighthouse.png
END:VEVENT
BEGIN:VEVENT
DTSTART;TZID=UTC:20230813T100000
DTEND;TZID=UTC:20230813T110000
DTSTAMP:20260424T082120
CREATED:20230610T231046Z
LAST-MODIFIED:20230610T234938Z
UID:3985-1691920800-1691924400@irvinelighthouse.org
SUMMARY:Sunday Service
DESCRIPTION:Lighthouse Church \nSundays at 10am \nLos Olivos Community Center\, 101 Alfonso\, Irvine\, CA 92618 \nTeaching from Pastor Scott Huffman\, live worship\, children’s ministry
URL:https://irvinelighthouse.org/event/sunday-service-10/
LOCATION:Lighthouse Church\, 101 Alfonso\, Irvine\, CA\, 92618\, United States
ATTACH;FMTTYPE=image/png:https://irvinelighthouse.org/wp-content/uploads/2023/06/sundays_at_lighthouse.png
END:VEVENT
BEGIN:VEVENT
DTSTART;TZID=UTC:20230806T100000
DTEND;TZID=UTC:20230806T110000
DTSTAMP:20260424T082120
CREATED:20230610T231025Z
LAST-MODIFIED:20230610T234839Z
UID:3983-1691316000-1691319600@irvinelighthouse.org
SUMMARY:Sunday Service
DESCRIPTION:Lighthouse Church \nSundays at 10am \nLos Olivos Community Center\, 101 Alfonso\, Irvine\, CA 92618 \nTeaching from Pastor Scott Huffman\, live worship\, children’s ministry
URL:https://irvinelighthouse.org/event/sunday-service-9/
LOCATION:Lighthouse Church\, 101 Alfonso\, Irvine\, CA\, 92618\, United States
ATTACH;FMTTYPE=image/png:https://irvinelighthouse.org/wp-content/uploads/2023/06/sundays_at_lighthouse.png
END:VEVENT
BEGIN:VEVENT
DTSTART;TZID=UTC:20230730T100000
DTEND;TZID=UTC:20230730T110000
DTSTAMP:20260424T082120
CREATED:20230610T231000Z
LAST-MODIFIED:20230610T234821Z
UID:3981-1690711200-1690714800@irvinelighthouse.org
SUMMARY:Sunday Service
DESCRIPTION:Lighthouse Church \nSundays at 10am \nLos Olivos Community Center\, 101 Alfonso\, Irvine\, CA 92618 \nTeaching from Pastor Scott Huffman\, live worship\, children’s ministry
URL:https://irvinelighthouse.org/event/sunday-service-8/
LOCATION:Lighthouse Church\, 101 Alfonso\, Irvine\, CA\, 92618\, United States
ATTACH;FMTTYPE=image/png:https://irvinelighthouse.org/wp-content/uploads/2023/06/sundays_at_lighthouse.png
END:VEVENT
BEGIN:VEVENT
DTSTART;TZID=UTC:20230723T100000
DTEND;TZID=UTC:20230723T110000
DTSTAMP:20260424T082120
CREATED:20230610T230938Z
LAST-MODIFIED:20230610T234757Z
UID:3979-1690106400-1690110000@irvinelighthouse.org
SUMMARY:Sunday Service
DESCRIPTION:Lighthouse Church \nSundays at 10am \nLos Olivos Community Center\, 101 Alfonso\, Irvine\, CA 92618 \nTeaching from Pastor Scott Huffman\, live worship\, children’s ministry
URL:https://irvinelighthouse.org/event/sunday-service-7/
LOCATION:Lighthouse Church\, 101 Alfonso\, Irvine\, CA\, 92618\, United States
ATTACH;FMTTYPE=image/png:https://irvinelighthouse.org/wp-content/uploads/2023/06/sundays_at_lighthouse.png
END:VEVENT
BEGIN:VEVENT
DTSTART;TZID=UTC:20230716T100000
DTEND;TZID=UTC:20230716T110000
DTSTAMP:20260424T082120
CREATED:20230610T230917Z
LAST-MODIFIED:20230610T234737Z
UID:3977-1689501600-1689505200@irvinelighthouse.org
SUMMARY:Sunday Service
DESCRIPTION:Lighthouse Church \nSundays at 10am \nLos Olivos Community Center\, 101 Alfonso\, Irvine\, CA 92618 \nTeaching from Pastor Scott Huffman\, live worship\, children’s ministry
URL:https://irvinelighthouse.org/event/sunday-service-6/
LOCATION:Lighthouse Church\, 101 Alfonso\, Irvine\, CA\, 92618\, United States
ATTACH;FMTTYPE=image/png:https://irvinelighthouse.org/wp-content/uploads/2023/06/sundays_at_lighthouse.png
END:VEVENT
BEGIN:VEVENT
DTSTART;TZID=UTC:20230709T100000
DTEND;TZID=UTC:20230709T110000
DTSTAMP:20260424T082120
CREATED:20230610T230536Z
LAST-MODIFIED:20230610T234714Z
UID:3974-1688896800-1688900400@irvinelighthouse.org
SUMMARY:Sunday Service
DESCRIPTION:Lighthouse Church \nSundays at 10am \nLos Olivos Community Center\, 101 Alfonso\, Irvine\, CA 92618 \nTeaching from Pastor Scott Huffman\, live worship\, children’s ministry
URL:https://irvinelighthouse.org/event/sunday-service-5/
LOCATION:Lighthouse Church\, 101 Alfonso\, Irvine\, CA\, 92618\, United States
ATTACH;FMTTYPE=image/png:https://irvinelighthouse.org/wp-content/uploads/2023/06/sundays_at_lighthouse.png
END:VEVENT
BEGIN:VEVENT
DTSTART;TZID=UTC:20230702T100000
DTEND;TZID=UTC:20230702T110000
DTSTAMP:20260424T082120
CREATED:20230610T230513Z
LAST-MODIFIED:20230610T234647Z
UID:3972-1688292000-1688295600@irvinelighthouse.org
SUMMARY:Sunday Service - Happy 25th Anniversary\, Lighthouse!
DESCRIPTION:Lighthouse Church \nSundays at 10am \nLos Olivos Community Center\, 101 Alfonso\, Irvine\, CA 92618 \nTeaching from Pastor Scott Huffman\, live worship\, children’s ministry
URL:https://irvinelighthouse.org/event/sunday-service-4/
LOCATION:Lighthouse Church\, 101 Alfonso\, Irvine\, CA\, 92618\, United States
ATTACH;FMTTYPE=image/png:https://irvinelighthouse.org/wp-content/uploads/2023/06/sundays_at_lighthouse.png
END:VEVENT
BEGIN:VEVENT
DTSTART;TZID=UTC:20230625T100000
DTEND;TZID=UTC:20230625T110000
DTSTAMP:20260424T082120
CREATED:20230610T230431Z
LAST-MODIFIED:20230610T234531Z
UID:3968-1687687200-1687690800@irvinelighthouse.org
SUMMARY:Sunday Service
DESCRIPTION:Lighthouse Church \nSundays at 10am \nLos Olivos Community Center\, 101 Alfonso\, Irvine\, CA 92618 \nTeaching from Pastor Scott Huffman\, live worship\, children’s ministry
URL:https://irvinelighthouse.org/event/sunday-service-3/
LOCATION:Lighthouse Church\, 101 Alfonso\, Irvine\, CA\, 92618\, United States
ATTACH;FMTTYPE=image/png:https://irvinelighthouse.org/wp-content/uploads/2023/06/sundays_at_lighthouse.png
END:VEVENT
BEGIN:VEVENT
DTSTART;TZID=UTC:20230618T100000
DTEND;TZID=UTC:20230618T110000
DTSTAMP:20260424T082120
CREATED:20230610T225955Z
LAST-MODIFIED:20230610T233849Z
UID:3963-1687082400-1687086000@irvinelighthouse.org
SUMMARY:Sunday Service - Celebrate Father's Day!
DESCRIPTION:Lighthouse Church \nSundays at 10am \nLos Olivos Community Center \n101 Alfonso\, Irvine\, CA 92618 \nTeaching from Pastor Scott\, live worship\, children’s ministry
URL:https://irvinelighthouse.org/event/sunday-service-2/
LOCATION:Lighthouse Church\, 101 Alfonso\, Irvine\, CA\, 92618\, United States
ATTACH;FMTTYPE=image/png:https://irvinelighthouse.org/wp-content/uploads/2023/06/sundays_at_lighthouse.png
END:VEVENT
BEGIN:VEVENT
DTSTART;TZID=UTC:20230611T100000
DTEND;TZID=UTC:20230611T110000
DTSTAMP:20260424T082120
CREATED:20230610T225507Z
LAST-MODIFIED:20230610T233942Z
UID:3966-1686477600-1686481200@irvinelighthouse.org
SUMMARY:Sunday Service
DESCRIPTION:Lighthouse Church \nSundays at 10am \nLos Olivos Community Center\, 101 Alfonso\, Irvine\, CA 92618 \nTeaching from Pastor Scott Huffman\, live worship\, children’s ministry
URL:https://irvinelighthouse.org/event/sunday-service/
LOCATION:Lighthouse Church\, 101 Alfonso\, Irvine\, CA\, 92618\, United States
ATTACH;FMTTYPE=image/png:https://irvinelighthouse.org/wp-content/uploads/2023/06/sundays_at_lighthouse.png
END:VEVENT
END:VCALENDAR