BEGIN:VCALENDAR
VERSION:2.0
PRODID:-//Lighthouse Church - ECPv6.15.20//NONSGML v1.0//EN
CALSCALE:GREGORIAN
METHOD:PUBLISH
X-WR-CALNAME:Lighthouse Church
X-ORIGINAL-URL:https://irvinelighthouse.org
X-WR-CALDESC:Events for Lighthouse Church
REFRESH-INTERVAL;VALUE=DURATION:PT1H
X-Robots-Tag:noindex
X-PUBLISHED-TTL:PT1H
BEGIN:VTIMEZONE
TZID:UTC
BEGIN:STANDARD
TZOFFSETFROM:+0000
TZOFFSETTO:+0000
TZNAME:UTC
DTSTART:20250101T000000
END:STANDARD
END:VTIMEZONE
BEGIN:VEVENT
DTSTART;TZID=UTC:20260920T100000
DTEND;TZID=UTC:20260920T110000
DTSTAMP:20260423T223549
CREATED:20260105T002707Z
LAST-MODIFIED:20260105T002724Z
UID:4403-1789898400-1789902000@irvinelighthouse.org
SUMMARY:Sunday Service at 10am
DESCRIPTION:Lighthouse Church on Sundays at 10am @ Los Olivos Community Center\, 101 Alfonso\, Irvine\, CA 92618. Bible teaching\, live worship\, children’s ministry & warm coffee. Visitors welcome!
URL:https://irvinelighthouse.org/event/sunday-service-at-10am-31/
LOCATION:Lighthouse Church\, 101 Alfonso\, Irvine\, CA\, 92618\, United States
ATTACH;FMTTYPE=image/png:https://irvinelighthouse.org/wp-content/uploads/2023/12/website_events_image.png
END:VEVENT
BEGIN:VEVENT
DTSTART;TZID=UTC:20260927T100000
DTEND;TZID=UTC:20260927T110000
DTSTAMP:20260423T223549
CREATED:20260105T002737Z
LAST-MODIFIED:20260105T002737Z
UID:4405-1790503200-1790506800@irvinelighthouse.org
SUMMARY:Sunday Service at 10am
DESCRIPTION:Lighthouse Church on Sundays at 10am @ Los Olivos Community Center\, 101 Alfonso\, Irvine\, CA 92618. Bible teaching\, live worship\, children’s ministry & warm coffee. Visitors welcome!
URL:https://irvinelighthouse.org/event/sunday-service-at-10am-32/
LOCATION:Lighthouse Church\, 101 Alfonso\, Irvine\, CA\, 92618\, United States
ATTACH;FMTTYPE=image/png:https://irvinelighthouse.org/wp-content/uploads/2023/12/website_events_image.png
END:VEVENT
BEGIN:VEVENT
DTSTART;TZID=UTC:20261004T100000
DTEND;TZID=UTC:20261004T110000
DTSTAMP:20260423T223549
CREATED:20260105T002752Z
LAST-MODIFIED:20260105T002752Z
UID:4407-1791108000-1791111600@irvinelighthouse.org
SUMMARY:Sunday Service at 10am
DESCRIPTION:Lighthouse Church on Sundays at 10am @ Los Olivos Community Center\, 101 Alfonso\, Irvine\, CA 92618. Bible teaching\, live worship\, children’s ministry & warm coffee. Visitors welcome!
URL:https://irvinelighthouse.org/event/sunday-service-at-10am-33/
LOCATION:Lighthouse Church\, 101 Alfonso\, Irvine\, CA\, 92618\, United States
ATTACH;FMTTYPE=image/png:https://irvinelighthouse.org/wp-content/uploads/2023/12/website_events_image.png
END:VEVENT
BEGIN:VEVENT
DTSTART;TZID=UTC:20261018T100000
DTEND;TZID=UTC:20261018T110000
DTSTAMP:20260423T223549
CREATED:20260105T002807Z
LAST-MODIFIED:20260105T002843Z
UID:4409-1792317600-1792321200@irvinelighthouse.org
SUMMARY:Sunday Service at 10am
DESCRIPTION:Lighthouse Church on Sundays at 10am @ Los Olivos Community Center\, 101 Alfonso\, Irvine\, CA 92618. Bible teaching\, live worship\, children’s ministry & warm coffee. Visitors welcome!
URL:https://irvinelighthouse.org/event/sunday-service-at-10am-34/
LOCATION:Lighthouse Church\, 101 Alfonso\, Irvine\, CA\, 92618\, United States
ATTACH;FMTTYPE=image/png:https://irvinelighthouse.org/wp-content/uploads/2023/12/website_events_image.png
END:VEVENT
BEGIN:VEVENT
DTSTART;TZID=UTC:20261025T103000
DTEND;TZID=UTC:20261025T110000
DTSTAMP:20260423T223549
CREATED:20260105T002944Z
LAST-MODIFIED:20260105T002944Z
UID:4411-1792924200-1792926000@irvinelighthouse.org
SUMMARY:Virtual Church at 10:30am
DESCRIPTION:Lighthouse Church will be virtual this week while the Community Center is unavailable. We will be LIVE online on Facebook & Instagram at 10:30am PST. See you then!
URL:https://irvinelighthouse.org/event/virtual-church-at-1030am-3/
LOCATION:Lighthouse Church\, 101 Alfonso\, Irvine\, CA\, 92618\, United States
ATTACH;FMTTYPE=image/png:https://irvinelighthouse.org/wp-content/uploads/2024/12/virtual_church_oct2025.png
END:VEVENT
BEGIN:VEVENT
DTSTART;TZID=UTC:20261101T103000
DTEND;TZID=UTC:20261101T110000
DTSTAMP:20260423T223549
CREATED:20260105T003123Z
LAST-MODIFIED:20260105T003123Z
UID:4413-1793529000-1793530800@irvinelighthouse.org
SUMMARY:Virtual Church at 10:30am
DESCRIPTION:Lighthouse Church will be virtual this week while the Community Center is unavailable. We will be LIVE online on Facebook & Instagram at 10:30am PST. See you then!
URL:https://irvinelighthouse.org/event/virtual-church-at-1030am-4/
LOCATION:Lighthouse Church\, 101 Alfonso\, Irvine\, CA\, 92618\, United States
ATTACH;FMTTYPE=image/png:https://irvinelighthouse.org/wp-content/uploads/2024/12/virtual_church_oct2025.png
END:VEVENT
BEGIN:VEVENT
DTSTART;TZID=UTC:20261108T100000
DTEND;TZID=UTC:20261108T110000
DTSTAMP:20260423T223549
CREATED:20260105T003156Z
LAST-MODIFIED:20260105T003156Z
UID:4415-1794132000-1794135600@irvinelighthouse.org
SUMMARY:Sunday Service at 10am
DESCRIPTION:Lighthouse Church on Sundays at 10am @ Los Olivos Community Center\, 101 Alfonso\, Irvine\, CA 92618. Bible teaching\, live worship\, children’s ministry & warm coffee. Visitors welcome!
URL:https://irvinelighthouse.org/event/sunday-service-at-10am-35/
LOCATION:Lighthouse Church\, 101 Alfonso\, Irvine\, CA\, 92618\, United States
ATTACH;FMTTYPE=image/png:https://irvinelighthouse.org/wp-content/uploads/2023/12/website_events_image.png
END:VEVENT
BEGIN:VEVENT
DTSTART;TZID=UTC:20261115T100000
DTEND;TZID=UTC:20261115T110000
DTSTAMP:20260423T223549
CREATED:20260105T003208Z
LAST-MODIFIED:20260105T003208Z
UID:4417-1794736800-1794740400@irvinelighthouse.org
SUMMARY:Sunday Service at 10am
DESCRIPTION:Lighthouse Church on Sundays at 10am @ Los Olivos Community Center\, 101 Alfonso\, Irvine\, CA 92618. Bible teaching\, live worship\, children’s ministry & warm coffee. Visitors welcome!
URL:https://irvinelighthouse.org/event/sunday-service-at-10am-36/
LOCATION:Lighthouse Church\, 101 Alfonso\, Irvine\, CA\, 92618\, United States
ATTACH;FMTTYPE=image/png:https://irvinelighthouse.org/wp-content/uploads/2023/12/website_events_image.png
END:VEVENT
BEGIN:VEVENT
DTSTART;TZID=UTC:20261122T100000
DTEND;TZID=UTC:20261122T110000
DTSTAMP:20260423T223549
CREATED:20260105T003222Z
LAST-MODIFIED:20260105T003222Z
UID:4419-1795341600-1795345200@irvinelighthouse.org
SUMMARY:Sunday Service at 10am
DESCRIPTION:Lighthouse Church on Sundays at 10am @ Los Olivos Community Center\, 101 Alfonso\, Irvine\, CA 92618. Bible teaching\, live worship\, children’s ministry & warm coffee. Visitors welcome!
URL:https://irvinelighthouse.org/event/sunday-service-at-10am-37/
LOCATION:Lighthouse Church\, 101 Alfonso\, Irvine\, CA\, 92618\, United States
ATTACH;FMTTYPE=image/png:https://irvinelighthouse.org/wp-content/uploads/2023/12/website_events_image.png
END:VEVENT
BEGIN:VEVENT
DTSTART;TZID=UTC:20261129T100000
DTEND;TZID=UTC:20261129T110000
DTSTAMP:20260423T223549
CREATED:20260105T003237Z
LAST-MODIFIED:20260105T003237Z
UID:4421-1795946400-1795950000@irvinelighthouse.org
SUMMARY:Sunday Service at 10am
DESCRIPTION:Lighthouse Church on Sundays at 10am @ Los Olivos Community Center\, 101 Alfonso\, Irvine\, CA 92618. Bible teaching\, live worship\, children’s ministry & warm coffee. Visitors welcome!
URL:https://irvinelighthouse.org/event/sunday-service-at-10am-38/
LOCATION:Lighthouse Church\, 101 Alfonso\, Irvine\, CA\, 92618\, United States
ATTACH;FMTTYPE=image/png:https://irvinelighthouse.org/wp-content/uploads/2023/12/website_events_image.png
END:VEVENT
BEGIN:VEVENT
DTSTART;TZID=UTC:20261206T100000
DTEND;TZID=UTC:20261206T110000
DTSTAMP:20260423T223549
CREATED:20260105T003255Z
LAST-MODIFIED:20260105T003255Z
UID:4423-1796551200-1796554800@irvinelighthouse.org
SUMMARY:Sunday Service at 10am
DESCRIPTION:Lighthouse Church on Sundays at 10am @ Los Olivos Community Center\, 101 Alfonso\, Irvine\, CA 92618. Bible teaching\, live worship\, children’s ministry & warm coffee. Visitors welcome!
URL:https://irvinelighthouse.org/event/sunday-service-at-10am-39/
LOCATION:Lighthouse Church\, 101 Alfonso\, Irvine\, CA\, 92618\, United States
ATTACH;FMTTYPE=image/png:https://irvinelighthouse.org/wp-content/uploads/2023/12/website_events_image.png
END:VEVENT
BEGIN:VEVENT
DTSTART;TZID=UTC:20261213T100000
DTEND;TZID=UTC:20261213T110000
DTSTAMP:20260423T223549
CREATED:20260105T003312Z
LAST-MODIFIED:20260105T003312Z
UID:4425-1797156000-1797159600@irvinelighthouse.org
SUMMARY:Sunday Service at 10am
DESCRIPTION:Lighthouse Church on Sundays at 10am @ Los Olivos Community Center\, 101 Alfonso\, Irvine\, CA 92618. Bible teaching\, live worship\, children’s ministry & warm coffee. Visitors welcome!
URL:https://irvinelighthouse.org/event/sunday-service-at-10am-40/
LOCATION:Lighthouse Church\, 101 Alfonso\, Irvine\, CA\, 92618\, United States
ATTACH;FMTTYPE=image/png:https://irvinelighthouse.org/wp-content/uploads/2023/12/website_events_image.png
END:VEVENT
BEGIN:VEVENT
DTSTART;TZID=UTC:20261220T100000
DTEND;TZID=UTC:20261220T110000
DTSTAMP:20260423T223549
CREATED:20260105T003614Z
LAST-MODIFIED:20260105T003639Z
UID:4431-1797760800-1797764400@irvinelighthouse.org
SUMMARY:CHRISTMAS SERVICE at 10am
DESCRIPTION:Celebrate Christmas at Lighthouse with a special message\, Christmas cookies\, warm cider and candlelight service. Kids ministry + live music. Bring family and friends\, visitors welcome!
URL:https://irvinelighthouse.org/event/christmas-service-at-10am/
LOCATION:Lighthouse Church\, 101 Alfonso\, Irvine\, CA\, 92618\, United States
ATTACH;FMTTYPE=image/png:https://irvinelighthouse.org/wp-content/uploads/2023/06/christmas_service.png
END:VEVENT
BEGIN:VEVENT
DTSTART;TZID=UTC:20261224T103000
DTEND;TZID=UTC:20261224T110000
DTSTAMP:20260423T223549
CREATED:20260105T004237Z
LAST-MODIFIED:20260105T004237Z
UID:4433-1798108200-1798110000@irvinelighthouse.org
SUMMARY:CHRISTMAS EVE SERVICE at 10:30am on Facebook
DESCRIPTION:Join us on Facebook Live for a special Christmas Eve service. https://www.facebook.com/irvinelighthouse
URL:https://irvinelighthouse.org/event/christmas-eve-service-at-1030am-on-facebook/
LOCATION:Lighthouse Church\, 101 Alfonso\, Irvine\, CA\, 92618\, United States
ATTACH;FMTTYPE=image/png:https://irvinelighthouse.org/wp-content/uploads/2023/06/christmas_service.png
END:VEVENT
BEGIN:VEVENT
DTSTART;TZID=UTC:20261227T100000
DTEND;TZID=UTC:20261227T110000
DTSTAMP:20260423T223549
CREATED:20260105T003417Z
LAST-MODIFIED:20260105T003417Z
UID:4429-1798365600-1798369200@irvinelighthouse.org
SUMMARY:Sunday Service at 10am
DESCRIPTION:Lighthouse Church on Sundays at 10am @ Los Olivos Community Center\, 101 Alfonso\, Irvine\, CA 92618. Bible teaching\, live worship\, children’s ministry & warm coffee. Visitors welcome!
URL:https://irvinelighthouse.org/event/sunday-service-at-10am-42/
LOCATION:Lighthouse Church\, 101 Alfonso\, Irvine\, CA\, 92618\, United States
ATTACH;FMTTYPE=image/png:https://irvinelighthouse.org/wp-content/uploads/2023/12/website_events_image.png
END:VEVENT
BEGIN:VEVENT
DTSTART;TZID=UTC:20270103T100000
DTEND;TZID=UTC:20270103T110000
DTSTAMP:20260423T223549
CREATED:20260105T003345Z
LAST-MODIFIED:20260105T003345Z
UID:4427-1798970400-1798974000@irvinelighthouse.org
SUMMARY:Sunday Service at 10am
DESCRIPTION:Lighthouse Church on Sundays at 10am @ Los Olivos Community Center\, 101 Alfonso\, Irvine\, CA 92618. Bible teaching\, live worship\, children’s ministry & warm coffee. Visitors welcome!
URL:https://irvinelighthouse.org/event/sunday-service-at-10am-41/
LOCATION:Lighthouse Church\, 101 Alfonso\, Irvine\, CA\, 92618\, United States
ATTACH;FMTTYPE=image/png:https://irvinelighthouse.org/wp-content/uploads/2023/12/website_events_image.png
END:VEVENT
END:VCALENDAR