BEGIN:VCALENDAR
VERSION:2.0
PRODID:-//Lighthouse Church - ECPv6.15.20//NONSGML v1.0//EN
CALSCALE:GREGORIAN
METHOD:PUBLISH
X-ORIGINAL-URL:https://irvinelighthouse.org
X-WR-CALDESC:Events for Lighthouse Church
REFRESH-INTERVAL;VALUE=DURATION:PT1H
X-Robots-Tag:noindex
X-PUBLISHED-TTL:PT1H
BEGIN:VTIMEZONE
TZID:UTC
BEGIN:STANDARD
TZOFFSETFROM:+0000
TZOFFSETTO:+0000
TZNAME:UTC
DTSTART:20220101T000000
END:STANDARD
END:VTIMEZONE
BEGIN:VEVENT
DTSTART;TZID=UTC:20231224T100000
DTEND;TZID=UTC:20231224T110000
DTSTAMP:20260425T153311
CREATED:20230610T231928Z
LAST-MODIFIED:20230610T234244Z
UID:4018-1703412000-1703415600@irvinelighthouse.org
SUMMARY:Christmas Service
DESCRIPTION:Celebrate Christmas at Lighthouse Church!
URL:https://irvinelighthouse.org/event/christmas-service/
LOCATION:CA
ATTACH;FMTTYPE=image/png:https://irvinelighthouse.org/wp-content/uploads/2023/06/christmas_service.png
END:VEVENT
BEGIN:VEVENT
DTSTART;TZID=UTC:20231231T100000
DTEND;TZID=UTC:20231231T110000
DTSTAMP:20260425T153311
CREATED:20230610T231954Z
LAST-MODIFIED:20231228T202213Z
UID:4020-1704016800-1704020400@irvinelighthouse.org
SUMMARY:Sunday Service - New Year's Eve
DESCRIPTION:Lighthouse Church Sundays at 10am Los Olivos Community Center\, 101 Alfonso\, Irvine\, CA 92618. Bible teaching\, live worship\, children’s ministry & warm coffee. Visitors welcome!
URL:https://irvinelighthouse.org/event/sunday-service-26/
LOCATION:Lighthouse Church\, 101 Alfonso\, Irvine\, CA\, 92618\, United States
ATTACH;FMTTYPE=image/png:https://irvinelighthouse.org/wp-content/uploads/2023/06/sundays_at_lighthouse.png
END:VEVENT
BEGIN:VEVENT
DTSTART;TZID=UTC:20240107T100000
DTEND;TZID=UTC:20240107T110000
DTSTAMP:20260425T153311
CREATED:20231228T200615Z
LAST-MODIFIED:20231228T202642Z
UID:4045-1704621600-1704625200@irvinelighthouse.org
SUMMARY:Sunday Service
DESCRIPTION:Lighthouse Church Sundays at 10am Los Olivos Community Center\, 101 Alfonso\, Irvine\, CA 92618. Bible teaching\, live worship\, children’s ministry & warm coffee. Visitors welcome!
URL:https://irvinelighthouse.org/event/sunday-service-27/
LOCATION:Lighthouse Church\, 101 Alfonso\, Irvine\, CA\, 92618\, United States
ATTACH;FMTTYPE=image/png:https://irvinelighthouse.org/wp-content/uploads/2023/12/website_events_image.png
END:VEVENT
BEGIN:VEVENT
DTSTART;TZID=UTC:20240114T100000
DTEND;TZID=UTC:20240114T110000
DTSTAMP:20260425T153311
CREATED:20231228T201521Z
LAST-MODIFIED:20231228T202627Z
UID:4049-1705226400-1705230000@irvinelighthouse.org
SUMMARY:Sunday Service
DESCRIPTION:Lighthouse Church Sundays at 10am Los Olivos Community Center\, 101 Alfonso\, Irvine\, CA 92618. Bible teaching\, live worship\, children’s ministry & warm coffee. Visitors welcome!
URL:https://irvinelighthouse.org/event/sunday-service-28/
LOCATION:CA
ATTACH;FMTTYPE=image/png:https://irvinelighthouse.org/wp-content/uploads/2023/12/website_events_image.png
END:VEVENT
BEGIN:VEVENT
DTSTART;TZID=UTC:20240118T100000
DTEND;TZID=UTC:20240118T110000
DTSTAMP:20260425T153311
CREATED:20240118T055822Z
LAST-MODIFIED:20240303T012846Z
UID:4088-1705572000-1705575600@irvinelighthouse.org
SUMMARY:Sunday Service
DESCRIPTION:Lighthouse Church on Sundays at 10am @ Los Olivos Community Center\, 101 Alfonso\, Irvine\, CA 92618. Bible teaching\, live worship\, children’s ministry & warm coffee. Visitors welcome!
URL:https://irvinelighthouse.org/event/sunday-service-41/
LOCATION:Lighthouse Church\, 101 Alfonso\, Irvine\, CA\, 92618\, United States
ATTACH;FMTTYPE=image/png:https://irvinelighthouse.org/wp-content/uploads/2023/12/website_events_image.png
END:VEVENT
BEGIN:VEVENT
DTSTART;TZID=UTC:20240121T100000
DTEND;TZID=UTC:20240121T110000
DTSTAMP:20260425T153311
CREATED:20231228T201846Z
LAST-MODIFIED:20231228T202613Z
UID:4051-1705831200-1705834800@irvinelighthouse.org
SUMMARY:Sunday Service
DESCRIPTION:Lighthouse Church Sundays at 10am Los Olivos Community Center\, 101 Alfonso\, Irvine\, CA 92618. Bible teaching\, live worship\, children’s ministry & warm coffee. Visitors welcome!
URL:https://irvinelighthouse.org/event/sunday-service-29/
LOCATION:CA
ATTACH;FMTTYPE=image/png:https://irvinelighthouse.org/wp-content/uploads/2023/12/website_events_image.png
END:VEVENT
BEGIN:VEVENT
DTSTART;TZID=UTC:20240128T100000
DTEND;TZID=UTC:20240128T110000
DTSTAMP:20260425T153311
CREATED:20231228T202106Z
LAST-MODIFIED:20231228T202558Z
UID:4054-1706436000-1706439600@irvinelighthouse.org
SUMMARY:Sunday Service
DESCRIPTION:Lighthouse Church Sundays at 10am Los Olivos Community Center\, 101 Alfonso\, Irvine\, CA 92618. Bible teaching\, live worship\, children’s ministry & warm coffee. Visitors welcome!
URL:https://irvinelighthouse.org/event/sunday-service-30/
LOCATION:CA
ATTACH;FMTTYPE=image/png:https://irvinelighthouse.org/wp-content/uploads/2023/12/website_events_image.png
END:VEVENT
BEGIN:VEVENT
DTSTART;TZID=UTC:20240204T100000
DTEND;TZID=UTC:20240204T110000
DTSTAMP:20260425T153311
CREATED:20240118T021117Z
LAST-MODIFIED:20240118T021117Z
UID:4063-1707040800-1707044400@irvinelighthouse.org
SUMMARY:Sunday Service
DESCRIPTION:Lighthouse Church on Sundays at 10am @ Los Olivos Community Center\, 101 Alfonso\, Irvine\, CA 92618. Bible teaching\, live worship\, children’s ministry & warm coffee. Visitors welcome!
URL:https://irvinelighthouse.org/event/sunday-service-31/
LOCATION:CA
ATTACH;FMTTYPE=image/png:https://irvinelighthouse.org/wp-content/uploads/2023/12/website_events_image.png
END:VEVENT
BEGIN:VEVENT
DTSTART;TZID=UTC:20240211T100000
DTEND;TZID=UTC:20240211T110000
DTSTAMP:20260425T153311
CREATED:20240118T021211Z
LAST-MODIFIED:20240118T023227Z
UID:4065-1707645600-1707649200@irvinelighthouse.org
SUMMARY:Sunday Service
DESCRIPTION:Lighthouse Church on Sundays at 10am @ Los Olivos Community Center\, 101 Alfonso\, Irvine\, CA 92618. Bible teaching\, live worship\, children’s ministry & warm coffee. Visitors welcome!
URL:https://irvinelighthouse.org/event/sunday-service-32/
LOCATION:Lighthouse Church\, 101 Alfonso\, Irvine\, CA\, 92618\, United States
ATTACH;FMTTYPE=image/png:https://irvinelighthouse.org/wp-content/uploads/2023/12/website_events_image.png
END:VEVENT
BEGIN:VEVENT
DTSTART;TZID=UTC:20240218T100000
DTEND;TZID=UTC:20240218T110000
DTSTAMP:20260425T153311
CREATED:20240118T023647Z
LAST-MODIFIED:20240118T023718Z
UID:4067-1708250400-1708254000@irvinelighthouse.org
SUMMARY:Sunday Service
DESCRIPTION:Lighthouse Church on Sundays at 10am @ Los Olivos Community Center\, 101 Alfonso\, Irvine\, CA 92618. Bible teaching\, live worship\, children’s ministry & warm coffee. Visitors welcome!
URL:https://irvinelighthouse.org/event/sunday-service-33/
LOCATION:Lighthouse Church\, 101 Alfonso\, Irvine\, CA\, 92618\, United States
ATTACH;FMTTYPE=image/png:https://irvinelighthouse.org/wp-content/uploads/2023/12/website_events_image.png
END:VEVENT
BEGIN:VEVENT
DTSTART;TZID=UTC:20240225T103000
DTEND;TZID=UTC:20240225T110000
DTSTAMP:20260425T153311
CREATED:20240118T053320Z
LAST-MODIFIED:20240118T061413Z
UID:4070-1708857000-1708858800@irvinelighthouse.org
SUMMARY:Sunday Service - Online 2/25/2024
DESCRIPTION:Lighthouse Church will be virtual this week while the Community Center is unavailable. We will be LIVE online on Facebook & Instagram at 10:30am PST. See you then!
URL:https://irvinelighthouse.org/event/sunday-service-34/
LOCATION:CA
ATTACH;FMTTYPE=image/png:https://irvinelighthouse.org/wp-content/uploads/2023/12/podcast_cover_april2023.png
END:VEVENT
BEGIN:VEVENT
DTSTART;TZID=UTC:20240303T103000
DTEND;TZID=UTC:20240303T110000
DTSTAMP:20260425T153311
CREATED:20240118T053454Z
LAST-MODIFIED:20240303T013002Z
UID:4072-1709461800-1709463600@irvinelighthouse.org
SUMMARY:Sunday Service - Online 3/3/2024
DESCRIPTION:Lighthouse Church will be virtual this week while the Community Center is unavailable. We will be LIVE online on Facebook https://www.facebook.com/pastorscotthuffman & Instagram @pastorscotthuffman at 10:30am PST. See you online! We’ll be back to the Los Olivos Community Center next week on 3/10 at 10am!
URL:https://irvinelighthouse.org/event/sunday-service-35/
LOCATION:CA
ATTACH;FMTTYPE=image/png:https://irvinelighthouse.org/wp-content/uploads/2023/12/podcast_cover_april2023.png
END:VEVENT
BEGIN:VEVENT
DTSTART;TZID=UTC:20240310T100000
DTEND;TZID=UTC:20240310T110000
DTSTAMP:20260425T153311
CREATED:20240118T054958Z
LAST-MODIFIED:20240118T055402Z
UID:4074-1710064800-1710068400@irvinelighthouse.org
SUMMARY:Sunday Service
DESCRIPTION:Lighthouse Church on Sundays at 10am @ Los Olivos Community Center\, 101 Alfonso\, Irvine\, CA 92618. Bible teaching\, live worship\, children’s ministry & warm coffee. Visitors welcome!
URL:https://irvinelighthouse.org/event/sunday-service-36/
LOCATION:Lighthouse Church\, 101 Alfonso\, Irvine\, CA\, 92618\, United States
ATTACH;FMTTYPE=image/png:https://irvinelighthouse.org/wp-content/uploads/2023/12/website_events_image.png
END:VEVENT
BEGIN:VEVENT
DTSTART;TZID=UTC:20240317T100000
DTEND;TZID=UTC:20240317T110000
DTSTAMP:20260425T153311
CREATED:20240118T055322Z
LAST-MODIFIED:20240118T055322Z
UID:4079-1710669600-1710673200@irvinelighthouse.org
SUMMARY:Sunday Service
DESCRIPTION:Lighthouse Church on Sundays at 10am @ Los Olivos Community Center\, 101 Alfonso\, Irvine\, CA 92618. Bible teaching\, live worship\, children’s ministry & warm coffee. Visitors welcome!
URL:https://irvinelighthouse.org/event/sunday-service-37/
LOCATION:Lighthouse Church\, 101 Alfonso\, Irvine\, CA\, 92618\, United States
ATTACH;FMTTYPE=image/png:https://irvinelighthouse.org/wp-content/uploads/2023/12/website_events_image.png
END:VEVENT
BEGIN:VEVENT
DTSTART;TZID=UTC:20240324T100000
DTEND;TZID=UTC:20240324T110000
DTSTAMP:20260425T153311
CREATED:20240118T055449Z
LAST-MODIFIED:20240323T211332Z
UID:4081-1711274400-1711278000@irvinelighthouse.org
SUMMARY:Sunday Service - Palm Sunday
DESCRIPTION:Celebrate Palm Sunday at Lighthouse Church at 10am @ Los Olivos Community Center\, 101 Alfonso\, Irvine\, CA 92618. Special theatrical skit + kids ministry. Warm coffee & fresh baked banana bread. Come on and join!
URL:https://irvinelighthouse.org/event/sunday-service-38/
LOCATION:Lighthouse Church\, 101 Alfonso\, Irvine\, CA\, 92618\, United States
ATTACH;FMTTYPE=image/png:https://irvinelighthouse.org/wp-content/uploads/2024/01/palm_sunday.png
END:VEVENT
BEGIN:VEVENT
DTSTART;TZID=UTC:20240331T100000
DTEND;TZID=UTC:20240331T110000
DTSTAMP:20260425T153311
CREATED:20240118T055520Z
LAST-MODIFIED:20240303T013133Z
UID:4083-1711879200-1711882800@irvinelighthouse.org
SUMMARY:EASTER SUNDAY
DESCRIPTION:You are invited to celebrate Easter at Lighthouse Church on Sunday\, March 31st at 10am @ Los Olivos Community Center\, 101 Alfonso\, Irvine\, CA 92618. Continental breakfast provided! Special Easter message\, live worship\, & kid’s ministry. Bring the whole family and celebrate the greatest celebration of the year – the resurrection of Jesus Christ!
URL:https://irvinelighthouse.org/event/sunday-service-39/
LOCATION:Lighthouse Church\, 101 Alfonso\, Irvine\, CA\, 92618\, United States
ATTACH;FMTTYPE=image/png:https://irvinelighthouse.org/wp-content/uploads/2024/01/easter_sunday.png
END:VEVENT
BEGIN:VEVENT
DTSTART;TZID=UTC:20240407T100000
DTEND;TZID=UTC:20240407T110000
DTSTAMP:20260425T153311
CREATED:20240118T055617Z
LAST-MODIFIED:20240118T055617Z
UID:4085-1712484000-1712487600@irvinelighthouse.org
SUMMARY:Sunday Service
DESCRIPTION:Lighthouse Church on Sundays at 10am @ Los Olivos Community Center\, 101 Alfonso\, Irvine\, CA 92618. Bible teaching\, live worship\, children’s ministry & warm coffee. Visitors welcome!
URL:https://irvinelighthouse.org/event/sunday-service-40/
LOCATION:Lighthouse Church\, 101 Alfonso\, Irvine\, CA\, 92618\, United States
ATTACH;FMTTYPE=image/png:https://irvinelighthouse.org/wp-content/uploads/2023/12/website_events_image.png
END:VEVENT
BEGIN:VEVENT
DTSTART;TZID=UTC:20240414T100000
DTEND;TZID=UTC:20240414T110000
DTSTAMP:20260425T153311
CREATED:20240118T055936Z
LAST-MODIFIED:20240118T055936Z
UID:4090-1713088800-1713092400@irvinelighthouse.org
SUMMARY:Sunday Service
DESCRIPTION:Lighthouse Church on Sundays at 10am @ Los Olivos Community Center\, 101 Alfonso\, Irvine\, CA 92618. Bible teaching\, live worship\, children’s ministry & warm coffee. Visitors welcome!
URL:https://irvinelighthouse.org/event/sunday-service-42/
LOCATION:Lighthouse Church\, 101 Alfonso\, Irvine\, CA\, 92618\, United States
ATTACH;FMTTYPE=image/png:https://irvinelighthouse.org/wp-content/uploads/2023/12/website_events_image.png
END:VEVENT
BEGIN:VEVENT
DTSTART;TZID=UTC:20240421T100000
DTEND;TZID=UTC:20240421T110000
DTSTAMP:20260425T153311
CREATED:20240118T060841Z
LAST-MODIFIED:20240118T060841Z
UID:4093-1713693600-1713697200@irvinelighthouse.org
SUMMARY:Sunday Service
DESCRIPTION:Lighthouse Church on Sundays at 10am @ Los Olivos Community Center\, 101 Alfonso\, Irvine\, CA 92618. Bible teaching\, live worship\, children’s ministry & warm coffee. Visitors welcome!
URL:https://irvinelighthouse.org/event/sunday-service-43/
LOCATION:Lighthouse Church\, 101 Alfonso\, Irvine\, CA\, 92618\, United States
ATTACH;FMTTYPE=image/png:https://irvinelighthouse.org/wp-content/uploads/2023/12/website_events_image.png
END:VEVENT
BEGIN:VEVENT
DTSTART;TZID=UTC:20240428T100000
DTEND;TZID=UTC:20240428T110000
DTSTAMP:20260425T153311
CREATED:20240118T060910Z
LAST-MODIFIED:20240118T060910Z
UID:4095-1714298400-1714302000@irvinelighthouse.org
SUMMARY:Sunday Service
DESCRIPTION:Lighthouse Church on Sundays at 10am @ Los Olivos Community Center\, 101 Alfonso\, Irvine\, CA 92618. Bible teaching\, live worship\, children’s ministry & warm coffee. Visitors welcome!
URL:https://irvinelighthouse.org/event/sunday-service-44/
LOCATION:Lighthouse Church\, 101 Alfonso\, Irvine\, CA\, 92618\, United States
ATTACH;FMTTYPE=image/png:https://irvinelighthouse.org/wp-content/uploads/2023/12/website_events_image.png
END:VEVENT
BEGIN:VEVENT
DTSTART;TZID=UTC:20240505T100000
DTEND;TZID=UTC:20240505T110000
DTSTAMP:20260425T153311
CREATED:20240118T060948Z
LAST-MODIFIED:20240118T060948Z
UID:4097-1714903200-1714906800@irvinelighthouse.org
SUMMARY:Sunday Service
DESCRIPTION:Lighthouse Church on Sundays at 10am @ Los Olivos Community Center\, 101 Alfonso\, Irvine\, CA 92618. Bible teaching\, live worship\, children’s ministry & warm coffee. Visitors welcome!
URL:https://irvinelighthouse.org/event/sunday-service-45/
LOCATION:Lighthouse Church\, 101 Alfonso\, Irvine\, CA\, 92618\, United States
ATTACH;FMTTYPE=image/png:https://irvinelighthouse.org/wp-content/uploads/2023/12/website_events_image.png
END:VEVENT
BEGIN:VEVENT
DTSTART;TZID=UTC:20240512T100000
DTEND;TZID=UTC:20240512T110000
DTSTAMP:20260425T153311
CREATED:20240118T061023Z
LAST-MODIFIED:20240210T194818Z
UID:4099-1715508000-1715511600@irvinelighthouse.org
SUMMARY:Sunday Service - Mother's Day
DESCRIPTION:Celebrate Mother’s Day at Lighthouse Church! Sunday\, May 12th at 10am @ Los Olivos Community Center\, 101 Alfonso\, Irvine\, CA 92618. Bring your mom or a special woman in your life. Bible teaching\, live worship\, children’s ministry & warm coffee. Visitors welcome!
URL:https://irvinelighthouse.org/event/sunday-service-46/
LOCATION:Lighthouse Church\, 101 Alfonso\, Irvine\, CA\, 92618\, United States
ATTACH;FMTTYPE=image/png:https://irvinelighthouse.org/wp-content/uploads/2024/01/mothers_day.png
END:VEVENT
BEGIN:VEVENT
DTSTART;TZID=UTC:20240519T100000
DTEND;TZID=UTC:20240519T110000
DTSTAMP:20260425T153311
CREATED:20240118T061106Z
LAST-MODIFIED:20240118T061106Z
UID:4101-1716112800-1716116400@irvinelighthouse.org
SUMMARY:Sunday Service
DESCRIPTION:Lighthouse Church on Sundays at 10am @ Los Olivos Community Center\, 101 Alfonso\, Irvine\, CA 92618. Bible teaching\, live worship\, children’s ministry & warm coffee. Visitors welcome!
URL:https://irvinelighthouse.org/event/sunday-service-47/
LOCATION:Lighthouse Church\, 101 Alfonso\, Irvine\, CA\, 92618\, United States
ATTACH;FMTTYPE=image/png:https://irvinelighthouse.org/wp-content/uploads/2023/12/website_events_image.png
END:VEVENT
BEGIN:VEVENT
DTSTART;TZID=UTC:20240526T103000
DTEND;TZID=UTC:20240526T110000
DTSTAMP:20260425T153311
CREATED:20240118T061339Z
LAST-MODIFIED:20240118T061339Z
UID:4103-1716719400-1716721200@irvinelighthouse.org
SUMMARY:Sunday Service - Online 5/26/2024
DESCRIPTION:Lighthouse Church will be virtual this week while the Community Center is unavailable. We will be LIVE online on Facebook & Instagram at 10:30am PST. See you then!
URL:https://irvinelighthouse.org/event/sunday-service-online-5-26-2024/
LOCATION:CA
END:VEVENT
BEGIN:VEVENT
DTSTART;TZID=UTC:20240602T100000
DTEND;TZID=UTC:20240602T110000
DTSTAMP:20260425T153311
CREATED:20240118T061451Z
LAST-MODIFIED:20240118T061451Z
UID:4105-1717322400-1717326000@irvinelighthouse.org
SUMMARY:Sunday Service
DESCRIPTION:Lighthouse Church on Sundays at 10am @ Los Olivos Community Center\, 101 Alfonso\, Irvine\, CA 92618. Bible teaching\, live worship\, children’s ministry & warm coffee. Visitors welcome!
URL:https://irvinelighthouse.org/event/sunday-service-48/
LOCATION:Lighthouse Church\, 101 Alfonso\, Irvine\, CA\, 92618\, United States
ATTACH;FMTTYPE=image/png:https://irvinelighthouse.org/wp-content/uploads/2023/12/website_events_image.png
END:VEVENT
BEGIN:VEVENT
DTSTART;TZID=UTC:20240609T100000
DTEND;TZID=UTC:20240609T110000
DTSTAMP:20260425T153311
CREATED:20240118T061522Z
LAST-MODIFIED:20240118T061522Z
UID:4107-1717927200-1717930800@irvinelighthouse.org
SUMMARY:Sunday Service
DESCRIPTION:Lighthouse Church on Sundays at 10am @ Los Olivos Community Center\, 101 Alfonso\, Irvine\, CA 92618. Bible teaching\, live worship\, children’s ministry & warm coffee. Visitors welcome!
URL:https://irvinelighthouse.org/event/sunday-service-49/
LOCATION:Lighthouse Church\, 101 Alfonso\, Irvine\, CA\, 92618\, United States
ATTACH;FMTTYPE=image/png:https://irvinelighthouse.org/wp-content/uploads/2023/12/website_events_image.png
END:VEVENT
BEGIN:VEVENT
DTSTART;TZID=UTC:20240616T100000
DTEND;TZID=UTC:20240616T110000
DTSTAMP:20260425T153311
CREATED:20240118T061553Z
LAST-MODIFIED:20240118T061553Z
UID:4109-1718532000-1718535600@irvinelighthouse.org
SUMMARY:Sunday Service
DESCRIPTION:Lighthouse Church on Sundays at 10am @ Los Olivos Community Center\, 101 Alfonso\, Irvine\, CA 92618. Bible teaching\, live worship\, children’s ministry & warm coffee. Visitors welcome!
URL:https://irvinelighthouse.org/event/sunday-service-50/
LOCATION:Lighthouse Church\, 101 Alfonso\, Irvine\, CA\, 92618\, United States
ATTACH;FMTTYPE=image/png:https://irvinelighthouse.org/wp-content/uploads/2023/12/website_events_image.png
END:VEVENT
BEGIN:VEVENT
DTSTART;TZID=UTC:20240623T100000
DTEND;TZID=UTC:20240623T110000
DTSTAMP:20260425T153311
CREATED:20240118T061627Z
LAST-MODIFIED:20240118T061627Z
UID:4111-1719136800-1719140400@irvinelighthouse.org
SUMMARY:Sunday Service
DESCRIPTION:Lighthouse Church on Sundays at 10am @ Los Olivos Community Center\, 101 Alfonso\, Irvine\, CA 92618. Bible teaching\, live worship\, children’s ministry & warm coffee. Visitors welcome!
URL:https://irvinelighthouse.org/event/sunday-service-51/
LOCATION:Lighthouse Church\, 101 Alfonso\, Irvine\, CA\, 92618\, United States
ATTACH;FMTTYPE=image/png:https://irvinelighthouse.org/wp-content/uploads/2023/12/website_events_image.png
END:VEVENT
BEGIN:VEVENT
DTSTART;TZID=UTC:20240630T100000
DTEND;TZID=UTC:20240630T110000
DTSTAMP:20260425T153311
CREATED:20240715T222522Z
LAST-MODIFIED:20240715T222522Z
UID:4134-1719741600-1719745200@irvinelighthouse.org
SUMMARY:Sunday Service
DESCRIPTION:Lighthouse Church on Sundays at 10am @ Los Olivos Community Center\, 101 Alfonso\, Irvine\, CA 92618. Bible teaching\, live worship\, children’s ministry & warm coffee. Visitors welcome!
URL:https://irvinelighthouse.org/event/sunday-service-52/
LOCATION:CA
ATTACH;FMTTYPE=image/png:https://irvinelighthouse.org/wp-content/uploads/2023/12/website_events_image.png
END:VEVENT
BEGIN:VEVENT
DTSTART;TZID=UTC:20240707T100000
DTEND;TZID=UTC:20240707T110000
DTSTAMP:20260425T153311
CREATED:20240715T222621Z
LAST-MODIFIED:20240715T222621Z
UID:4136-1720346400-1720350000@irvinelighthouse.org
SUMMARY:Sunday Service
DESCRIPTION:Lighthouse Church on Sundays at 10am @ Los Olivos Community Center\, 101 Alfonso\, Irvine\, CA 92618. Bible teaching\, live worship\, children’s ministry & warm coffee. Visitors welcome!
URL:https://irvinelighthouse.org/event/sunday-service-53/
LOCATION:CA
ATTACH;FMTTYPE=image/png:https://irvinelighthouse.org/wp-content/uploads/2023/12/website_events_image.png
END:VEVENT
END:VCALENDAR