BEGIN:VCALENDAR
VERSION:2.0
PRODID:-//Lighthouse Church - ECPv6.15.20//NONSGML v1.0//EN
CALSCALE:GREGORIAN
METHOD:PUBLISH
X-WR-CALNAME:Lighthouse Church
X-ORIGINAL-URL:https://irvinelighthouse.org
X-WR-CALDESC:Events for Lighthouse Church
REFRESH-INTERVAL;VALUE=DURATION:PT1H
X-Robots-Tag:noindex
X-PUBLISHED-TTL:PT1H
BEGIN:VTIMEZONE
TZID:UTC
BEGIN:STANDARD
TZOFFSETFROM:+0000
TZOFFSETTO:+0000
TZNAME:UTC
DTSTART:20230101T000000
END:STANDARD
END:VTIMEZONE
BEGIN:VEVENT
DTSTART;TZID=UTC:20250511T100000
DTEND;TZID=UTC:20250511T110000
DTSTAMP:20260423T222952
CREATED:20241228T043958Z
LAST-MODIFIED:20241228T043958Z
UID:4241-1746957600-1746961200@irvinelighthouse.org
SUMMARY:Sunday Service
DESCRIPTION:Lighthouse Church on Sundays at 10am @ Los Olivos Community Center\, 101 Alfonso\, Irvine\, CA 92618. Bible teaching\, live worship\, children’s ministry & warm coffee. Visitors welcome!
URL:https://irvinelighthouse.org/event/sunday-service-93/
LOCATION:CA
ATTACH;FMTTYPE=image/png:https://irvinelighthouse.org/wp-content/uploads/2023/12/website_events_image.png
END:VEVENT
BEGIN:VEVENT
DTSTART;TZID=UTC:20250504T100000
DTEND;TZID=UTC:20250504T110000
DTSTAMP:20260423T222952
CREATED:20241228T043831Z
LAST-MODIFIED:20241228T043831Z
UID:4239-1746352800-1746356400@irvinelighthouse.org
SUMMARY:Sunday Service
DESCRIPTION:Lighthouse Church on Sundays at 10am @ Los Olivos Community Center\, 101 Alfonso\, Irvine\, CA 92618. Bible teaching\, live worship\, children’s ministry & warm coffee. Visitors welcome!
URL:https://irvinelighthouse.org/event/sunday-service-92/
LOCATION:CA
ATTACH;FMTTYPE=image/png:https://irvinelighthouse.org/wp-content/uploads/2023/12/website_events_image.png
END:VEVENT
BEGIN:VEVENT
DTSTART;TZID=UTC:20250427T100000
DTEND;TZID=UTC:20250427T110000
DTSTAMP:20260423T222952
CREATED:20241228T043727Z
LAST-MODIFIED:20241228T043727Z
UID:4237-1745748000-1745751600@irvinelighthouse.org
SUMMARY:Sunday Service
DESCRIPTION:Lighthouse Church on Sundays at 10am @ Los Olivos Community Center\, 101 Alfonso\, Irvine\, CA 92618. Bible teaching\, live worship\, children’s ministry & warm coffee. Visitors welcome!
URL:https://irvinelighthouse.org/event/sunday-service-91/
LOCATION:CA
ATTACH;FMTTYPE=image/png:https://irvinelighthouse.org/wp-content/uploads/2023/12/website_events_image.png
END:VEVENT
BEGIN:VEVENT
DTSTART;TZID=UTC:20250420T100000
DTEND;TZID=UTC:20250420T110000
DTSTAMP:20260423T222952
CREATED:20241228T043547Z
LAST-MODIFIED:20250105T041029Z
UID:4235-1745143200-1745146800@irvinelighthouse.org
SUMMARY:Easter Service
DESCRIPTION:Join us for Easter Sunday @ Lighthouse Church on Sundays at 10am. Los Olivos Community Center\, 101 Alfonso\, Irvine\, CA 92618. Bible teaching\, live worship\, children’s ministry & warm coffee. Visitors welcome!
URL:https://irvinelighthouse.org/event/sunday-service-90/
LOCATION:CA
ATTACH;FMTTYPE=image/jpeg:https://irvinelighthouse.org/wp-content/uploads/2024/12/website_thumbnail.jpg
END:VEVENT
BEGIN:VEVENT
DTSTART;TZID=UTC:20250413T100000
DTEND;TZID=UTC:20250413T110000
DTSTAMP:20260423T222952
CREATED:20241228T043000Z
LAST-MODIFIED:20241228T043000Z
UID:4233-1744538400-1744542000@irvinelighthouse.org
SUMMARY:Sunday Service
DESCRIPTION:Lighthouse Church on Sundays at 10am @ Los Olivos Community Center\, 101 Alfonso\, Irvine\, CA 92618. Bible teaching\, live worship\, children’s ministry & warm coffee. Visitors welcome!
URL:https://irvinelighthouse.org/event/sunday-service-89/
LOCATION:CA
ATTACH;FMTTYPE=image/png:https://irvinelighthouse.org/wp-content/uploads/2023/12/website_events_image.png
END:VEVENT
BEGIN:VEVENT
DTSTART;TZID=UTC:20250406T100000
DTEND;TZID=UTC:20250406T110000
DTSTAMP:20260423T222952
CREATED:20241228T042801Z
LAST-MODIFIED:20241228T042801Z
UID:4231-1743933600-1743937200@irvinelighthouse.org
SUMMARY:Sunday Service
DESCRIPTION:Lighthouse Church on Sundays at 10am @ Los Olivos Community Center\, 101 Alfonso\, Irvine\, CA 92618. Bible teaching\, live worship\, children’s ministry & warm coffee. Visitors welcome!
URL:https://irvinelighthouse.org/event/sunday-service-88/
LOCATION:CA
ATTACH;FMTTYPE=image/png:https://irvinelighthouse.org/wp-content/uploads/2023/12/website_events_image.png
END:VEVENT
BEGIN:VEVENT
DTSTART;TZID=UTC:20250330T100000
DTEND;TZID=UTC:20250330T110000
DTSTAMP:20260423T222952
CREATED:20241228T042645Z
LAST-MODIFIED:20241228T042645Z
UID:4229-1743328800-1743332400@irvinelighthouse.org
SUMMARY:Sunday Service
DESCRIPTION:Lighthouse Church on Sundays at 10am @ Los Olivos Community Center\, 101 Alfonso\, Irvine\, CA 92618. Bible teaching\, live worship\, children’s ministry & warm coffee. Visitors welcome!
URL:https://irvinelighthouse.org/event/sunday-service-87/
LOCATION:CA
ATTACH;FMTTYPE=image/png:https://irvinelighthouse.org/wp-content/uploads/2023/12/website_events_image.png
END:VEVENT
BEGIN:VEVENT
DTSTART;TZID=UTC:20250323T100000
DTEND;TZID=UTC:20250323T110000
DTSTAMP:20260423T222952
CREATED:20241228T042601Z
LAST-MODIFIED:20241228T042601Z
UID:4227-1742724000-1742727600@irvinelighthouse.org
SUMMARY:Sunday Service
DESCRIPTION:Lighthouse Church on Sundays at 10am @ Los Olivos Community Center\, 101 Alfonso\, Irvine\, CA 92618. Bible teaching\, live worship\, children’s ministry & warm coffee. Visitors welcome!
URL:https://irvinelighthouse.org/event/sunday-service-86/
LOCATION:CA
ATTACH;FMTTYPE=image/png:https://irvinelighthouse.org/wp-content/uploads/2023/12/website_events_image.png
END:VEVENT
BEGIN:VEVENT
DTSTART;TZID=UTC:20250316T100000
DTEND;TZID=UTC:20250316T110000
DTSTAMP:20260423T222952
CREATED:20241228T042506Z
LAST-MODIFIED:20241228T042506Z
UID:4225-1742119200-1742122800@irvinelighthouse.org
SUMMARY:Sunday Service
DESCRIPTION:Lighthouse Church on Sundays at 10am @ Los Olivos Community Center\, 101 Alfonso\, Irvine\, CA 92618. Bible teaching\, live worship\, children’s ministry & warm coffee. Visitors welcome!
URL:https://irvinelighthouse.org/event/sunday-service-85/
LOCATION:CA
ATTACH;FMTTYPE=image/png:https://irvinelighthouse.org/wp-content/uploads/2023/12/website_events_image.png
END:VEVENT
BEGIN:VEVENT
DTSTART;TZID=UTC:20250309T100000
DTEND;TZID=UTC:20250309T110000
DTSTAMP:20260423T222952
CREATED:20241228T042429Z
LAST-MODIFIED:20241228T042429Z
UID:4223-1741514400-1741518000@irvinelighthouse.org
SUMMARY:Sunday Service
DESCRIPTION:Lighthouse Church on Sundays at 10am @ Los Olivos Community Center\, 101 Alfonso\, Irvine\, CA 92618. Bible teaching\, live worship\, children’s ministry & warm coffee. Visitors welcome!
URL:https://irvinelighthouse.org/event/sunday-service-84/
LOCATION:CA
ATTACH;FMTTYPE=image/png:https://irvinelighthouse.org/wp-content/uploads/2023/12/website_events_image.png
END:VEVENT
BEGIN:VEVENT
DTSTART;TZID=UTC:20250302T100000
DTEND;TZID=UTC:20250302T110000
DTSTAMP:20260423T222952
CREATED:20241228T042338Z
LAST-MODIFIED:20241228T042338Z
UID:4221-1740909600-1740913200@irvinelighthouse.org
SUMMARY:Sunday Service
DESCRIPTION:Lighthouse Church on Sundays at 10am @ Los Olivos Community Center\, 101 Alfonso\, Irvine\, CA 92618. Bible teaching\, live worship\, children’s ministry & warm coffee. Visitors welcome!
URL:https://irvinelighthouse.org/event/sunday-service-83/
LOCATION:CA
ATTACH;FMTTYPE=image/png:https://irvinelighthouse.org/wp-content/uploads/2023/12/website_events_image.png
END:VEVENT
BEGIN:VEVENT
DTSTART;TZID=UTC:20250223T100000
DTEND;TZID=UTC:20250223T110000
DTSTAMP:20260423T222952
CREATED:20241228T041953Z
LAST-MODIFIED:20241228T041953Z
UID:4218-1740304800-1740308400@irvinelighthouse.org
SUMMARY:Sunday Service
DESCRIPTION:Lighthouse Church on Sundays at 10am @ Los Olivos Community Center\, 101 Alfonso\, Irvine\, CA 92618. Bible teaching\, live worship\, children’s ministry & warm coffee. Visitors welcome!
URL:https://irvinelighthouse.org/event/sunday-service-82/
LOCATION:CA
ATTACH;FMTTYPE=image/png:https://irvinelighthouse.org/wp-content/uploads/2023/12/website_events_image.png
END:VEVENT
BEGIN:VEVENT
DTSTART;TZID=UTC:20250216T100000
DTEND;TZID=UTC:20250216T110000
DTSTAMP:20260423T222952
CREATED:20241228T041844Z
LAST-MODIFIED:20241228T041844Z
UID:4216-1739700000-1739703600@irvinelighthouse.org
SUMMARY:Sunday Service
DESCRIPTION:Lighthouse Church on Sundays at 10am @ Los Olivos Community Center\, 101 Alfonso\, Irvine\, CA 92618. Bible teaching\, live worship\, children’s ministry & warm coffee. Visitors welcome!
URL:https://irvinelighthouse.org/event/sunday-service-81/
LOCATION:CA
ATTACH;FMTTYPE=image/png:https://irvinelighthouse.org/wp-content/uploads/2023/12/website_events_image.png
END:VEVENT
BEGIN:VEVENT
DTSTART;TZID=UTC:20250209T100000
DTEND;TZID=UTC:20250209T110000
DTSTAMP:20260423T222952
CREATED:20241228T041732Z
LAST-MODIFIED:20241228T041732Z
UID:4214-1739095200-1739098800@irvinelighthouse.org
SUMMARY:Sunday Service
DESCRIPTION:Lighthouse Church on Sundays at 10am @ Los Olivos Community Center\, 101 Alfonso\, Irvine\, CA 92618. Bible teaching\, live worship\, children’s ministry & warm coffee. Visitors welcome!
URL:https://irvinelighthouse.org/event/sunday-service-80/
LOCATION:CA
ATTACH;FMTTYPE=image/png:https://irvinelighthouse.org/wp-content/uploads/2023/12/website_events_image.png
END:VEVENT
BEGIN:VEVENT
DTSTART;TZID=UTC:20250202T100000
DTEND;TZID=UTC:20250202T110000
DTSTAMP:20260423T222952
CREATED:20241228T041644Z
LAST-MODIFIED:20241228T041644Z
UID:4212-1738490400-1738494000@irvinelighthouse.org
SUMMARY:Sunday Service
DESCRIPTION:Lighthouse Church on Sundays at 10am @ Los Olivos Community Center\, 101 Alfonso\, Irvine\, CA 92618. Bible teaching\, live worship\, children’s ministry & warm coffee. Visitors welcome!
URL:https://irvinelighthouse.org/event/sunday-service-79/
LOCATION:CA
ATTACH;FMTTYPE=image/png:https://irvinelighthouse.org/wp-content/uploads/2023/12/website_events_image.png
END:VEVENT
BEGIN:VEVENT
DTSTART;TZID=UTC:20250126T100000
DTEND;TZID=UTC:20250126T110000
DTSTAMP:20260423T222952
CREATED:20241228T041543Z
LAST-MODIFIED:20241228T041543Z
UID:4210-1737885600-1737889200@irvinelighthouse.org
SUMMARY:Sunday Service
DESCRIPTION:Lighthouse Church on Sundays at 10am @ Los Olivos Community Center\, 101 Alfonso\, Irvine\, CA 92618. Bible teaching\, live worship\, children’s ministry & warm coffee. Visitors welcome!
URL:https://irvinelighthouse.org/event/sunday-service-78/
LOCATION:CA
ATTACH;FMTTYPE=image/png:https://irvinelighthouse.org/wp-content/uploads/2023/12/website_events_image.png
END:VEVENT
BEGIN:VEVENT
DTSTART;TZID=UTC:20250119T103000
DTEND;TZID=UTC:20250119T113000
DTSTAMP:20260423T222952
CREATED:20241228T041410Z
LAST-MODIFIED:20241228T042116Z
UID:4208-1737282600-1737286200@irvinelighthouse.org
SUMMARY:Sunday Service - Online 1/19/2025
DESCRIPTION:Lighthouse Church will be virtual this week while the Community Center is unavailable. We will be LIVE online on Facebook & Instagram at 10:30am PST. See you then!
URL:https://irvinelighthouse.org/event/sunday-service-online-1-19-2025/
LOCATION:CA
ATTACH;FMTTYPE=image/png:https://irvinelighthouse.org/wp-content/uploads/2024/07/virtual_church.png
END:VEVENT
BEGIN:VEVENT
DTSTART;TZID=UTC:20250112T100000
DTEND;TZID=UTC:20250112T110000
DTSTAMP:20260423T222952
CREATED:20241228T040919Z
LAST-MODIFIED:20241228T041038Z
UID:4205-1736676000-1736679600@irvinelighthouse.org
SUMMARY:Sunday Service
DESCRIPTION:Lighthouse Church on Sundays at 10am @ Los Olivos Community Center\, 101 Alfonso\, Irvine\, CA 92618. Bible teaching\, live worship\, children’s ministry & warm coffee. Visitors welcome!
URL:https://irvinelighthouse.org/event/4205/
LOCATION:CA
ATTACH;FMTTYPE=image/png:https://irvinelighthouse.org/wp-content/uploads/2023/12/website_events_image.png
END:VEVENT
BEGIN:VEVENT
DTSTART;TZID=UTC:20250105T100000
DTEND;TZID=UTC:20250105T110000
DTSTAMP:20260423T222952
CREATED:20240715T231933Z
LAST-MODIFIED:20240715T231933Z
UID:4189-1736071200-1736074800@irvinelighthouse.org
SUMMARY:Sunday Service
DESCRIPTION:Lighthouse Church on Sundays at 10am @ Los Olivos Community Center\, 101 Alfonso\, Irvine\, CA 92618. Bible teaching\, live worship\, children’s ministry & warm coffee. Visitors welcome!
URL:https://irvinelighthouse.org/event/sunday-service-77/
LOCATION:CA
ATTACH;FMTTYPE=image/png:https://irvinelighthouse.org/wp-content/uploads/2023/12/website_events_image.png
END:VEVENT
BEGIN:VEVENT
DTSTART;TZID=UTC:20241229T100000
DTEND;TZID=UTC:20241229T110000
DTSTAMP:20260423T222952
CREATED:20240715T231853Z
LAST-MODIFIED:20240715T231853Z
UID:4187-1735466400-1735470000@irvinelighthouse.org
SUMMARY:Sunday Service
DESCRIPTION:Lighthouse Church on Sundays at 10am @ Los Olivos Community Center\, 101 Alfonso\, Irvine\, CA 92618. Bible teaching\, live worship\, children’s ministry & warm coffee. Visitors welcome!
URL:https://irvinelighthouse.org/event/sunday-service-76/
LOCATION:CA
ATTACH;FMTTYPE=image/png:https://irvinelighthouse.org/wp-content/uploads/2023/12/website_events_image.png
END:VEVENT
BEGIN:VEVENT
DTSTART;TZID=UTC:20241222T100000
DTEND;TZID=UTC:20241222T110000
DTSTAMP:20260423T222952
CREATED:20240715T231812Z
LAST-MODIFIED:20240715T231812Z
UID:4185-1734861600-1734865200@irvinelighthouse.org
SUMMARY:Christmas Service at Lighthouse
DESCRIPTION:Celebrate Christmas at Lighthouse! Christmas cookies\, warm apple cider and coffee\, special event for the kids ministry. Bring the family and join us!
URL:https://irvinelighthouse.org/event/christmas-service-at-lighthouse/
LOCATION:CA
ATTACH;FMTTYPE=image/png:https://irvinelighthouse.org/wp-content/uploads/2023/06/christmas_service.png
END:VEVENT
BEGIN:VEVENT
DTSTART;TZID=UTC:20241215T100000
DTEND;TZID=UTC:20241215T110000
DTSTAMP:20260423T222952
CREATED:20240715T231130Z
LAST-MODIFIED:20240715T231130Z
UID:4183-1734256800-1734260400@irvinelighthouse.org
SUMMARY:Sunday Service
DESCRIPTION:Lighthouse Church on Sundays at 10am @ Los Olivos Community Center\, 101 Alfonso\, Irvine\, CA 92618. Bible teaching\, live worship\, children’s ministry & warm coffee. Visitors welcome!
URL:https://irvinelighthouse.org/event/sunday-service-75/
LOCATION:CA
ATTACH;FMTTYPE=image/png:https://irvinelighthouse.org/wp-content/uploads/2023/12/website_events_image.png
END:VEVENT
BEGIN:VEVENT
DTSTART;TZID=UTC:20241208T100000
DTEND;TZID=UTC:20241208T110000
DTSTAMP:20260423T222952
CREATED:20240715T231106Z
LAST-MODIFIED:20240715T231106Z
UID:4181-1733652000-1733655600@irvinelighthouse.org
SUMMARY:Sunday Service
DESCRIPTION:Lighthouse Church on Sundays at 10am @ Los Olivos Community Center\, 101 Alfonso\, Irvine\, CA 92618. Bible teaching\, live worship\, children’s ministry & warm coffee. Visitors welcome!
URL:https://irvinelighthouse.org/event/sunday-service-74/
LOCATION:CA
ATTACH;FMTTYPE=image/png:https://irvinelighthouse.org/wp-content/uploads/2023/12/website_events_image.png
END:VEVENT
BEGIN:VEVENT
DTSTART;TZID=UTC:20241201T100000
DTEND;TZID=UTC:20241201T110000
DTSTAMP:20260423T222952
CREATED:20240715T231040Z
LAST-MODIFIED:20240715T231040Z
UID:4179-1733047200-1733050800@irvinelighthouse.org
SUMMARY:Sunday Service
DESCRIPTION:Lighthouse Church on Sundays at 10am @ Los Olivos Community Center\, 101 Alfonso\, Irvine\, CA 92618. Bible teaching\, live worship\, children’s ministry & warm coffee. Visitors welcome!
URL:https://irvinelighthouse.org/event/sunday-service-73/
LOCATION:CA
ATTACH;FMTTYPE=image/png:https://irvinelighthouse.org/wp-content/uploads/2023/12/website_events_image.png
END:VEVENT
BEGIN:VEVENT
DTSTART;TZID=UTC:20241124T100000
DTEND;TZID=UTC:20241124T110000
DTSTAMP:20260423T222952
CREATED:20240715T230957Z
LAST-MODIFIED:20240715T230957Z
UID:4177-1732442400-1732446000@irvinelighthouse.org
SUMMARY:Sunday Service
DESCRIPTION:Lighthouse Church on Sundays at 10am @ Los Olivos Community Center\, 101 Alfonso\, Irvine\, CA 92618. Bible teaching\, live worship\, children’s ministry & warm coffee. Visitors welcome!
URL:https://irvinelighthouse.org/event/sunday-service-72/
LOCATION:CA
ATTACH;FMTTYPE=image/png:https://irvinelighthouse.org/wp-content/uploads/2023/12/website_events_image.png
END:VEVENT
BEGIN:VEVENT
DTSTART;TZID=UTC:20241117T100000
DTEND;TZID=UTC:20241117T110000
DTSTAMP:20260423T222952
CREATED:20240715T230931Z
LAST-MODIFIED:20240715T230931Z
UID:4175-1731837600-1731841200@irvinelighthouse.org
SUMMARY:Sunday Service
DESCRIPTION:Lighthouse Church on Sundays at 10am @ Los Olivos Community Center\, 101 Alfonso\, Irvine\, CA 92618. Bible teaching\, live worship\, children’s ministry & warm coffee. Visitors welcome!
URL:https://irvinelighthouse.org/event/sunday-service-71/
LOCATION:CA
ATTACH;FMTTYPE=image/png:https://irvinelighthouse.org/wp-content/uploads/2023/12/website_events_image.png
END:VEVENT
BEGIN:VEVENT
DTSTART;TZID=UTC:20241110T100000
DTEND;TZID=UTC:20241110T110000
DTSTAMP:20260423T222952
CREATED:20240715T230902Z
LAST-MODIFIED:20240715T230902Z
UID:4173-1731232800-1731236400@irvinelighthouse.org
SUMMARY:Sunday Service
DESCRIPTION:Lighthouse Church on Sundays at 10am @ Los Olivos Community Center\, 101 Alfonso\, Irvine\, CA 92618. Bible teaching\, live worship\, children’s ministry & warm coffee. Visitors welcome!
URL:https://irvinelighthouse.org/event/sunday-service-70/
LOCATION:CA
ATTACH;FMTTYPE=image/png:https://irvinelighthouse.org/wp-content/uploads/2023/12/website_events_image.png
END:VEVENT
BEGIN:VEVENT
DTSTART;TZID=UTC:20241103T100000
DTEND;TZID=UTC:20241103T110000
DTSTAMP:20260423T222952
CREATED:20240715T230745Z
LAST-MODIFIED:20240715T230745Z
UID:4170-1730628000-1730631600@irvinelighthouse.org
SUMMARY:Sunday Service - Online 11/3/2024
DESCRIPTION:Lighthouse Church will be virtual this week while the Community Center is unavailable. We will be LIVE online on Facebook & Instagram at 10:30am PST. See you then!
URL:https://irvinelighthouse.org/event/sunday-service-online-11-3-2024/
LOCATION:CA
ATTACH;FMTTYPE=image/png:https://irvinelighthouse.org/wp-content/uploads/2024/07/virtual_church.png
END:VEVENT
BEGIN:VEVENT
DTSTART;TZID=UTC:20241027T100000
DTEND;TZID=UTC:20241027T110000
DTSTAMP:20260423T222952
CREATED:20240715T230012Z
LAST-MODIFIED:20240715T230012Z
UID:4168-1730023200-1730026800@irvinelighthouse.org
SUMMARY:Sunday Service
DESCRIPTION:Lighthouse Church on Sundays at 10am @ Los Olivos Community Center\, 101 Alfonso\, Irvine\, CA 92618. Bible teaching\, live worship\, children’s ministry & warm coffee. Visitors welcome!
URL:https://irvinelighthouse.org/event/sunday-service-69/
LOCATION:CA
ATTACH;FMTTYPE=image/png:https://irvinelighthouse.org/wp-content/uploads/2023/12/website_events_image.png
END:VEVENT
BEGIN:VEVENT
DTSTART;TZID=UTC:20241020T100000
DTEND;TZID=UTC:20241020T110000
DTSTAMP:20260423T222952
CREATED:20240715T225943Z
LAST-MODIFIED:20240715T225943Z
UID:4166-1729418400-1729422000@irvinelighthouse.org
SUMMARY:Sunday Service
DESCRIPTION:Lighthouse Church on Sundays at 10am @ Los Olivos Community Center\, 101 Alfonso\, Irvine\, CA 92618. Bible teaching\, live worship\, children’s ministry & warm coffee. Visitors welcome!
URL:https://irvinelighthouse.org/event/sunday-service-68/
LOCATION:CA
ATTACH;FMTTYPE=image/png:https://irvinelighthouse.org/wp-content/uploads/2023/12/website_events_image.png
END:VEVENT
END:VCALENDAR