BEGIN:VCALENDAR
VERSION:2.0
PRODID:-//Lighthouse Church - ECPv6.15.20//NONSGML v1.0//EN
CALSCALE:GREGORIAN
METHOD:PUBLISH
X-WR-CALNAME:Lighthouse Church
X-ORIGINAL-URL:https://irvinelighthouse.org
X-WR-CALDESC:Events for Lighthouse Church
REFRESH-INTERVAL;VALUE=DURATION:PT1H
X-Robots-Tag:noindex
X-PUBLISHED-TTL:PT1H
BEGIN:VTIMEZONE
TZID:UTC
BEGIN:STANDARD
TZOFFSETFROM:+0000
TZOFFSETTO:+0000
TZNAME:UTC
DTSTART:20230101T000000
END:STANDARD
END:VTIMEZONE
BEGIN:VEVENT
DTSTART;TZID=UTC:20240505T100000
DTEND;TZID=UTC:20240505T110000
DTSTAMP:20260425T015933
CREATED:20240118T060948Z
LAST-MODIFIED:20240118T060948Z
UID:4097-1714903200-1714906800@irvinelighthouse.org
SUMMARY:Sunday Service
DESCRIPTION:Lighthouse Church on Sundays at 10am @ Los Olivos Community Center\, 101 Alfonso\, Irvine\, CA 92618. Bible teaching\, live worship\, children’s ministry & warm coffee. Visitors welcome!
URL:https://irvinelighthouse.org/event/sunday-service-45/
LOCATION:Lighthouse Church\, 101 Alfonso\, Irvine\, CA\, 92618\, United States
ATTACH;FMTTYPE=image/png:https://irvinelighthouse.org/wp-content/uploads/2023/12/website_events_image.png
END:VEVENT
BEGIN:VEVENT
DTSTART;TZID=UTC:20240512T100000
DTEND;TZID=UTC:20240512T110000
DTSTAMP:20260425T015933
CREATED:20240118T061023Z
LAST-MODIFIED:20240210T194818Z
UID:4099-1715508000-1715511600@irvinelighthouse.org
SUMMARY:Sunday Service - Mother's Day
DESCRIPTION:Celebrate Mother’s Day at Lighthouse Church! Sunday\, May 12th at 10am @ Los Olivos Community Center\, 101 Alfonso\, Irvine\, CA 92618. Bring your mom or a special woman in your life. Bible teaching\, live worship\, children’s ministry & warm coffee. Visitors welcome!
URL:https://irvinelighthouse.org/event/sunday-service-46/
LOCATION:Lighthouse Church\, 101 Alfonso\, Irvine\, CA\, 92618\, United States
ATTACH;FMTTYPE=image/png:https://irvinelighthouse.org/wp-content/uploads/2024/01/mothers_day.png
END:VEVENT
BEGIN:VEVENT
DTSTART;TZID=UTC:20240519T100000
DTEND;TZID=UTC:20240519T110000
DTSTAMP:20260425T015933
CREATED:20240118T061106Z
LAST-MODIFIED:20240118T061106Z
UID:4101-1716112800-1716116400@irvinelighthouse.org
SUMMARY:Sunday Service
DESCRIPTION:Lighthouse Church on Sundays at 10am @ Los Olivos Community Center\, 101 Alfonso\, Irvine\, CA 92618. Bible teaching\, live worship\, children’s ministry & warm coffee. Visitors welcome!
URL:https://irvinelighthouse.org/event/sunday-service-47/
LOCATION:Lighthouse Church\, 101 Alfonso\, Irvine\, CA\, 92618\, United States
ATTACH;FMTTYPE=image/png:https://irvinelighthouse.org/wp-content/uploads/2023/12/website_events_image.png
END:VEVENT
BEGIN:VEVENT
DTSTART;TZID=UTC:20240526T103000
DTEND;TZID=UTC:20240526T110000
DTSTAMP:20260425T015933
CREATED:20240118T061339Z
LAST-MODIFIED:20240118T061339Z
UID:4103-1716719400-1716721200@irvinelighthouse.org
SUMMARY:Sunday Service - Online 5/26/2024
DESCRIPTION:Lighthouse Church will be virtual this week while the Community Center is unavailable. We will be LIVE online on Facebook & Instagram at 10:30am PST. See you then!
URL:https://irvinelighthouse.org/event/sunday-service-online-5-26-2024/
LOCATION:CA
END:VEVENT
END:VCALENDAR