BEGIN:VCALENDAR
VERSION:2.0
PRODID:-//Lighthouse Church - ECPv6.15.20//NONSGML v1.0//EN
CALSCALE:GREGORIAN
METHOD:PUBLISH
X-ORIGINAL-URL:https://irvinelighthouse.org
X-WR-CALDESC:Events for Lighthouse Church
REFRESH-INTERVAL;VALUE=DURATION:PT1H
X-Robots-Tag:noindex
X-PUBLISHED-TTL:PT1H
BEGIN:VTIMEZONE
TZID:UTC
BEGIN:STANDARD
TZOFFSETFROM:+0000
TZOFFSETTO:+0000
TZNAME:UTC
DTSTART:20240101T000000
END:STANDARD
END:VTIMEZONE
BEGIN:VEVENT
DTSTART;TZID=UTC:20250803T100000
DTEND;TZID=UTC:20250803T110000
DTSTAMP:20260424T041404
CREATED:20241228T045511Z
LAST-MODIFIED:20241228T045511Z
UID:4268-1754215200-1754218800@irvinelighthouse.org
SUMMARY:Sunday Service
DESCRIPTION:Lighthouse Church on Sundays at 10am @ Los Olivos Community Center\, 101 Alfonso\, Irvine\, CA 92618. Bible teaching\, live worship\, children’s ministry & warm coffee. Visitors welcome!
URL:https://irvinelighthouse.org/event/sunday-service-105/
LOCATION:CA
ATTACH;FMTTYPE=image/png:https://irvinelighthouse.org/wp-content/uploads/2023/12/website_events_image.png
END:VEVENT
BEGIN:VEVENT
DTSTART;TZID=UTC:20250810T100000
DTEND;TZID=UTC:20250810T110000
DTSTAMP:20260424T041404
CREATED:20241228T045624Z
LAST-MODIFIED:20241228T045624Z
UID:4270-1754820000-1754823600@irvinelighthouse.org
SUMMARY:Sunday Service
DESCRIPTION:Lighthouse Church on Sundays at 10am @ Los Olivos Community Center\, 101 Alfonso\, Irvine\, CA 92618. Bible teaching\, live worship\, children’s ministry & warm coffee. Visitors welcome!
URL:https://irvinelighthouse.org/event/sunday-service-106/
LOCATION:CA
ATTACH;FMTTYPE=image/png:https://irvinelighthouse.org/wp-content/uploads/2023/12/website_events_image.png
END:VEVENT
BEGIN:VEVENT
DTSTART;TZID=UTC:20250817T100000
DTEND;TZID=UTC:20250817T110000
DTSTAMP:20260424T041404
CREATED:20241228T045713Z
LAST-MODIFIED:20241228T045713Z
UID:4272-1755424800-1755428400@irvinelighthouse.org
SUMMARY:Sunday Service
DESCRIPTION:Lighthouse Church on Sundays at 10am @ Los Olivos Community Center\, 101 Alfonso\, Irvine\, CA 92618. Bible teaching\, live worship\, children’s ministry & warm coffee. Visitors welcome!
URL:https://irvinelighthouse.org/event/sunday-service-107/
LOCATION:CA
ATTACH;FMTTYPE=image/png:https://irvinelighthouse.org/wp-content/uploads/2023/12/website_events_image.png
END:VEVENT
BEGIN:VEVENT
DTSTART;TZID=UTC:20250824T100000
DTEND;TZID=UTC:20250824T110000
DTSTAMP:20260424T041404
CREATED:20241228T050006Z
LAST-MODIFIED:20241228T050006Z
UID:4274-1756029600-1756033200@irvinelighthouse.org
SUMMARY:Sunday Service
DESCRIPTION:Lighthouse Church on Sundays at 10am @ Los Olivos Community Center\, 101 Alfonso\, Irvine\, CA 92618. Bible teaching\, live worship\, children’s ministry & warm coffee. Visitors welcome!
URL:https://irvinelighthouse.org/event/sunday-service-108/
LOCATION:CA
ATTACH;FMTTYPE=image/png:https://irvinelighthouse.org/wp-content/uploads/2023/12/website_events_image.png
END:VEVENT
BEGIN:VEVENT
DTSTART;TZID=UTC:20250831T100000
DTEND;TZID=UTC:20250831T110000
DTSTAMP:20260424T041404
CREATED:20241228T050244Z
LAST-MODIFIED:20241228T050244Z
UID:4276-1756634400-1756638000@irvinelighthouse.org
SUMMARY:Sunday Service
DESCRIPTION:Lighthouse Church on Sundays at 10am @ Los Olivos Community Center\, 101 Alfonso\, Irvine\, CA 92618. Bible teaching\, live worship\, children’s ministry & warm coffee. Visitors welcome!
URL:https://irvinelighthouse.org/event/sunday-service-109/
LOCATION:CA
END:VEVENT
END:VCALENDAR