BEGIN:VCALENDAR
VERSION:2.0
PRODID:-//Lighthouse Church - ECPv6.15.20//NONSGML v1.0//EN
CALSCALE:GREGORIAN
METHOD:PUBLISH
X-ORIGINAL-URL:https://irvinelighthouse.org
X-WR-CALDESC:Events for Lighthouse Church
REFRESH-INTERVAL;VALUE=DURATION:PT1H
X-Robots-Tag:noindex
X-PUBLISHED-TTL:PT1H
BEGIN:VTIMEZONE
TZID:UTC
BEGIN:STANDARD
TZOFFSETFROM:+0000
TZOFFSETTO:+0000
TZNAME:UTC
DTSTART:20250101T000000
END:STANDARD
END:VTIMEZONE
BEGIN:VEVENT
DTSTART;TZID=UTC:20260705T100000
DTEND;TZID=UTC:20260705T110000
DTSTAMP:20260423T210953
CREATED:20260105T002426Z
LAST-MODIFIED:20260105T002426Z
UID:4387-1783245600-1783249200@irvinelighthouse.org
SUMMARY:Sunday Service at 10am
DESCRIPTION:Lighthouse Church on Sundays at 10am @ Los Olivos Community Center\, 101 Alfonso\, Irvine\, CA 92618. Bible teaching\, live worship\, children’s ministry & warm coffee. Visitors welcome!
URL:https://irvinelighthouse.org/event/sunday-service-at-10am-23/
LOCATION:Lighthouse Church\, 101 Alfonso\, Irvine\, CA\, 92618\, United States
ATTACH;FMTTYPE=image/png:https://irvinelighthouse.org/wp-content/uploads/2023/12/website_events_image.png
END:VEVENT
BEGIN:VEVENT
DTSTART;TZID=UTC:20260712T100000
DTEND;TZID=UTC:20260712T110000
DTSTAMP:20260423T210953
CREATED:20260105T002458Z
LAST-MODIFIED:20260105T002458Z
UID:4389-1783850400-1783854000@irvinelighthouse.org
SUMMARY:Sunday Service at 10am
DESCRIPTION:Lighthouse Church on Sundays at 10am @ Los Olivos Community Center\, 101 Alfonso\, Irvine\, CA 92618. Bible teaching\, live worship\, children’s ministry & warm coffee. Visitors welcome!
URL:https://irvinelighthouse.org/event/sunday-service-at-10am-24/
LOCATION:Lighthouse Church\, 101 Alfonso\, Irvine\, CA\, 92618\, United States
ATTACH;FMTTYPE=image/png:https://irvinelighthouse.org/wp-content/uploads/2023/12/website_events_image.png
END:VEVENT
BEGIN:VEVENT
DTSTART;TZID=UTC:20260726T100000
DTEND;TZID=UTC:20260726T110000
DTSTAMP:20260423T210953
CREATED:20260105T002513Z
LAST-MODIFIED:20260105T002533Z
UID:4391-1785060000-1785063600@irvinelighthouse.org
SUMMARY:Sunday Service at 10am
DESCRIPTION:Lighthouse Church on Sundays at 10am @ Los Olivos Community Center\, 101 Alfonso\, Irvine\, CA 92618. Bible teaching\, live worship\, children’s ministry & warm coffee. Visitors welcome!
URL:https://irvinelighthouse.org/event/sunday-service-at-10am-25/
LOCATION:Lighthouse Church\, 101 Alfonso\, Irvine\, CA\, 92618\, United States
ATTACH;FMTTYPE=image/png:https://irvinelighthouse.org/wp-content/uploads/2023/12/website_events_image.png
END:VEVENT
END:VCALENDAR